BEGIN:VCALENDAR
VERSION:2.0
PRODID:-//Lord Taverners Hunter - ECPv4.6.26.1//NONSGML v1.0//EN
CALSCALE:GREGORIAN
METHOD:PUBLISH
X-WR-CALNAME:Lord Taverners Hunter
X-ORIGINAL-URL:https://www.lordstavernershun.org.au
X-WR-CALDESC:Events for Lord Taverners Hunter
BEGIN:VEVENT
DTSTART;VALUE=DATE:20200202
DTEND;VALUE=DATE:20200203
DTSTAMP:20200227T023426
CREATED:20191116T225218Z
LAST-MODIFIED:20191116T225218Z
UID:1504-1580601600-1580687999@www.lordstavernershun.org.au
SUMMARY:Cricket O60 Regional v Tamworth
DESCRIPTION:
URL:https://www.lordstavernershun.org.au/event/cricket-o60-regional-v-tamworth/
LOCATION:Tamworth
END:VEVENT
BEGIN:VEVENT
DTSTART;TZID=Australia/Sydney:20200203T080000
DTEND;TZID=Australia/Sydney:20200205T170000
DTSTAMP:20200227T023426
CREATED:20191116T225422Z
LAST-MODIFIED:20191116T225422Z
UID:1507-1580716800-1580922000@www.lordstavernershun.org.au
SUMMARY:Cricket O70 State Championships
DESCRIPTION:
URL:https://www.lordstavernershun.org.au/event/cricket-o70-state-championships/
LOCATION:Port Macquarie
END:VEVENT
BEGIN:VEVENT
DTSTART;VALUE=DATE:20200209
DTEND;VALUE=DATE:20200210
DTSTAMP:20200227T023426
CREATED:20191116T225608Z
LAST-MODIFIED:20191116T225608Z
UID:1510-1581206400-1581292799@www.lordstavernershun.org.au
SUMMARY:Cricket O60 Vintage v DSLOBS
DESCRIPTION:
URL:https://www.lordstavernershun.org.au/event/cricket-o60-vintage-v-dslobs/
LOCATION:Sydney
END:VEVENT
BEGIN:VEVENT
DTSTART;VALUE=DATE:20200209
DTEND;VALUE=DATE:20200210
DTSTAMP:20200227T023426
CREATED:20191118T043719Z
LAST-MODIFIED:20191118T043719Z
UID:1550-1581206400-1581292799@www.lordstavernershun.org.au
SUMMARY:Cricket O60s Vintage v Cricketers Club
DESCRIPTION:
URL:https://www.lordstavernershun.org.au/event/cricket-o60s-vintage-v-cricketers-club/
LOCATION:Waterboard Oval Blackalls Park
END:VEVENT
BEGIN:VEVENT
DTSTART;VALUE=DATE:20200216
DTEND;VALUE=DATE:20200217
DTSTAMP:20200227T023426
CREATED:20200104T065752Z
LAST-MODIFIED:20200104T065752Z
UID:1578-1581811200-1581897599@www.lordstavernershun.org.au
SUMMARY:Cricket O50s Doug Walters Cup v North Coast Marlins
DESCRIPTION:
URL:https://www.lordstavernershun.org.au/event/cricket-o50s-doug-walters-cup-v-north-coast-marlins/
LOCATION:Waterboard Oval Blackalls Park
END:VEVENT
BEGIN:VEVENT
DTSTART;VALUE=DATE:20200217
DTEND;VALUE=DATE:20200218
DTSTAMP:20200227T023426
CREATED:20191116T225754Z
LAST-MODIFIED:20191116T225754Z
UID:1512-1581897600-1581983999@www.lordstavernershun.org.au
SUMMARY:Cricket O60 Regional v Tamworth
DESCRIPTION:
URL:https://www.lordstavernershun.org.au/event/cricket-o60-regional-v-tamworth-2/
LOCATION:Awaba/Water Board/Cardiff
END:VEVENT
BEGIN:VEVENT
DTSTART;VALUE=DATE:20200222
DTEND;VALUE=DATE:20200225
DTSTAMP:20200227T023426
CREATED:20200104T072056Z
LAST-MODIFIED:20200104T072056Z
UID:1586-1582329600-1582588799@www.lordstavernershun.org.au
SUMMARY:Cricket O50s State Championships
DESCRIPTION:
URL:https://www.lordstavernershun.org.au/event/cricket-o50s-state-championships/
LOCATION:Orange
END:VEVENT
BEGIN:VEVENT
DTSTART;VALUE=DATE:20200223
DTEND;VALUE=DATE:20200224
DTSTAMP:20200227T023426
CREATED:20191116T230237Z
LAST-MODIFIED:20191116T230237Z
UID:1516-1582416000-1582502399@www.lordstavernershun.org.au
SUMMARY:Cricket O60 Vintage v Georges River
DESCRIPTION:
URL:https://www.lordstavernershun.org.au/event/cricket-o60-vintage-v-georges-river/
LOCATION:Awaba/Water Board/Cardiff
END:VEVENT
BEGIN:VEVENT
DTSTART;TZID=Australia/Sydney:20200224T080000
DTEND;TZID=Australia/Sydney:20200225T170000
DTSTAMP:20200227T023426
CREATED:20191116T230102Z
LAST-MODIFIED:20191116T230102Z
UID:1514-1582531200-1582650000@www.lordstavernershun.org.au
SUMMARY:Cricket O67 Mini Carnival
DESCRIPTION:
URL:https://www.lordstavernershun.org.au/event/cricket-o67-mini-carnival/
LOCATION:Tamworth
END:VEVENT
BEGIN:VEVENT
DTSTART;VALUE=DATE:20200301
DTEND;VALUE=DATE:20200302
DTSTAMP:20200227T023426
CREATED:20191116T230501Z
LAST-MODIFIED:20191116T230501Z
UID:1518-1583020800-1583107199@www.lordstavernershun.org.au
SUMMARY:Cricket Local Open v CBC
DESCRIPTION:
URL:https://www.lordstavernershun.org.au/event/cricket-local-open-v-cbc/
LOCATION:Woodlands Oval Wilberforce
END:VEVENT
END:VCALENDAR